BEGIN:VCALENDAR
VERSION:2.0
PRODID:icalendar-ruby
CALSCALE:GREGORIAN
METHOD:PUBLISH
BEGIN:VEVENT
DTSTAMP:20260420T192833Z
UID:8-368027@thesanctuaryjefferson.org
DTSTART:20261022T000000Z
DTEND:20261022T010000Z
CLASS:PUBLIC
CREATED:20260420T115623
DESCRIPTION:Royal Rangers\nMissionettes\nYouth\nMens Group\nWomens Group
LAST-MODIFIED:20260420T115623
LOCATION:The Sanctuary
SUMMARY:Midweek Services
URL;VALUE=URI:https://www.thesanctuaryjefferson.org/events/midweek-services
 /2026-10-21
END:VEVENT
END:VCALENDAR
