BEGIN:VCALENDAR
VERSION:2.0
PRODID:icalendar-ruby
CALSCALE:GREGORIAN
METHOD:PUBLISH
BEGIN:VEVENT
DTSTAMP:20260420T121013Z
UID:8-367491@thesanctuaryjefferson.org
DTSTART:20261008T000000Z
DTEND:20261008T010000Z
CLASS:PUBLIC
CREATED:20260420T064704
DESCRIPTION:Royal Rangers\nMissionettes\nYouth\nMens Group\nWomens Group
LAST-MODIFIED:20260420T064704
LOCATION:The Sanctuary
SUMMARY:Midweek Services
URL;VALUE=URI:https://www.thesanctuaryjefferson.org/events/midweek-services
 /2026-10-07
END:VEVENT
END:VCALENDAR
