BEGIN:VCALENDAR
VERSION:2.0
PRODID:icalendar-ruby
CALSCALE:GREGORIAN
METHOD:PUBLISH
BEGIN:VEVENT
DTSTAMP:20260420T101336Z
UID:8-367223@thesanctuaryjefferson.org
DTSTART:20261001T000000Z
DTEND:20261001T010000Z
CLASS:PUBLIC
CREATED:20260420T015705
DESCRIPTION:Royal Rangers\nMissionettes\nYouth\nMens Group\nWomens Group
LAST-MODIFIED:20260420T015705
LOCATION:The Sanctuary
SUMMARY:Midweek Services
URL;VALUE=URI:https://www.thesanctuaryjefferson.org/events/midweek-services
 /2026-09-30
END:VEVENT
END:VCALENDAR
