BEGIN:VCALENDAR
VERSION:2.0
PRODID:icalendar-ruby
CALSCALE:GREGORIAN
METHOD:PUBLISH
BEGIN:VEVENT
DTSTAMP:20260420T083349Z
UID:8-367222@thesanctuaryjefferson.org
DTSTART:20260924T000000Z
DTEND:20260924T010000Z
CLASS:PUBLIC
CREATED:20260420T015705
DESCRIPTION:Royal Rangers\nMissionettes\nYouth\nMens Group\nWomens Group
LAST-MODIFIED:20260420T015705
LOCATION:The Sanctuary
SUMMARY:Midweek Services
URL;VALUE=URI:https://www.thesanctuaryjefferson.org/events/midweek-services
 /2026-09-23
END:VEVENT
END:VCALENDAR
