BEGIN:VCALENDAR
VERSION:2.0
PRODID:icalendar-ruby
CALSCALE:GREGORIAN
METHOD:PUBLISH
BEGIN:VEVENT
DTSTAMP:20260420T065419Z
UID:8-366954@thesanctuaryjefferson.org
DTSTART:20260917T000000Z
DTEND:20260917T010000Z
CLASS:PUBLIC
CREATED:20260419T222006
DESCRIPTION:Royal Rangers\nMissionettes\nYouth\nMens Group\nWomens Group
LAST-MODIFIED:20260419T222006
LOCATION:The Sanctuary
SUMMARY:Midweek Services
URL;VALUE=URI:https://www.thesanctuaryjefferson.org/events/midweek-services
 /2026-09-16
END:VEVENT
END:VCALENDAR
